BEGIN:VCALENDAR
VERSION:2.0
PRODID:-//NomadIT Events//Conference Explorer//EN
METHOD:REQUEST
BEGIN:VEVENT
UID:20260422.215417.0-1
DTSTAMP:20260422T205417Z
DTSTART:20260701T110000Z
DTEND:20260701T120000Z
SUMMARY:Panel Post1
DESCRIPTION:POLLEN2026 - Poster submission
 https://nomadit.co.uk/conference/pollen2026/p/17687 at Pollen2026
 Conference https://pollenpoliticalecology.network/pollen-2026/
X-ALT-DESC;FMTTYPE=text/html:<!DOCTYPE HTML PUBLIC ""-//W3C//DTD HTML
 3.2//EN""><HTML lang="en"><BODY> POLLEN2026 - Poster submission <a
 href="https://nomadit.co.uk/conference/pollen2026/p/17687">Panel
 Post1</a> at Conference <a
 href="https://pollenpoliticalecology.network/pollen-2026/">Pollen2026</a>
 </BODY></HTML>
LOCATION:Barcelona, Spain
END:VEVENT
BEGIN:VEVENT
UID:20260422.215417.1-2
DTSTAMP:20260422T205417Z
DTSTART:20260702T110000Z
DTEND:20260702T120000Z
SUMMARY:Panel Post1
DESCRIPTION:POLLEN2026 - Poster submission
 https://nomadit.co.uk/conference/pollen2026/p/17687 at Pollen2026
 Conference https://pollenpoliticalecology.network/pollen-2026/
X-ALT-DESC;FMTTYPE=text/html:<!DOCTYPE HTML PUBLIC ""-//W3C//DTD HTML
 3.2//EN""><HTML lang="en"><BODY> POLLEN2026 - Poster submission <a
 href="https://nomadit.co.uk/conference/pollen2026/p/17687">Panel
 Post1</a> at Conference <a
 href="https://pollenpoliticalecology.network/pollen-2026/">Pollen2026</a>
 </BODY></HTML>
LOCATION:Barcelona, Spain
END:VEVENT
END:VCALENDAR
